BEGIN:VCALENDAR
PRODID:-//github.com/rianjs/ical.net//NONSGML ical.net 4.0//EN
VERSION:2.0
BEGIN:VEVENT
DTEND:20260422T160000
DTSTAMP:20260421T081743Z
DTSTART:20260422T103000
LOCATION:The Exchange\, Birmingham & Emirates Old Trafford
SEQUENCE:0
SUMMARY:Demonstrating practical tools to reduce carbon & improve societal 
 outcomes from street & road works
UID:68882a4a-9972-4df4-bd74-cb6eb5c3f75b
X-ALT-DESC;FMTTYPE=text/html:\n          22 April 2026 – Manchester\n
END:VEVENT
END:VCALENDAR
