BEGIN:VCALENDAR
PRODID:-//github.com/rianjs/ical.net//NONSGML ical.net 4.0//EN
VERSION:2.0
BEGIN:VEVENT
DTEND:20260521T160000
DTSTAMP:20260423T083201Z
DTSTART:20260521T100000
LOCATION:Leicester Tigers\, Aylestone Rd\, Leicester LE2 7TR
SEQUENCE:0
SUMMARY:Connecting People and Places
UID:d1ae9bd2-e3de-49e2-bddf-19c373d7b394
X-ALT-DESC;FMTTYPE=text/html:\n          Leicester Tigers\, Aylestone Rd\,
  Leicester LE2 7TR\n
END:VEVENT
END:VCALENDAR
