BEGIN:VCALENDAR
PRODID:-//github.com/rianjs/ical.net//NONSGML ical.net 4.0//EN
VERSION:2.0
BEGIN:VEVENT
DTEND:20260528T091439
DTSTAMP:20260421T081849Z
DTSTART:20260528T091439
LOCATION:London\, De Vere Grand
SEQUENCE:0
SUMMARY:Sustainable and Resilient Highways
UID:0cdb0637-8f32-4b70-ac28-c3222c4dc8a8
X-ALT-DESC;FMTTYPE=text/html:\n          London\, De Vere Grand\n
END:VEVENT
END:VCALENDAR
