BEGIN:VCALENDAR
PRODID:-//github.com/rianjs/ical.net//NONSGML ical.net 4.0//EN
VERSION:2.0
BEGIN:VEVENT
DTEND:20260603T170000
DTSTAMP:20260421T081751Z
DTSTART:20260603T090000
LOCATION:Brooklands Museum\, Weybridge KT13 0SL
SEQUENCE:0
SUMMARY:Presidential Conference 2026
UID:0a98a756-23c9-4835-8e9c-adba0dbfe1f9
X-ALT-DESC;FMTTYPE=text/html:\n          Brooklands Museum\, Weybridge.\n
END:VEVENT
END:VCALENDAR
