BEGIN:VCALENDAR
PRODID:-//github.com/rianjs/ical.net//NONSGML ical.net 4.0//EN
VERSION:2.0
BEGIN:VEVENT
DTEND:20260604T091439
DTSTAMP:20260421T081925Z
DTSTART:20260604T091439
LOCATION:Scotland\, Perth Racecourse
SEQUENCE:0
SUMMARY:Sustainable and Resilient Highways
UID:ea8c2e20-1fac-4456-8a89-5f8a84ecdef7
X-ALT-DESC;FMTTYPE=text/html:\n          Scotland\, Perth Racecourse\n
END:VEVENT
END:VCALENDAR
