BEGIN:VCALENDAR
PRODID:-//github.com/rianjs/ical.net//NONSGML ical.net 4.0//EN
VERSION:2.0
BEGIN:VEVENT
DTEND:20260609T160000
DTSTAMP:20260421T082007Z
DTSTART:20260609T090000
LOCATION:Hilton Hotel at St George’s Park\, Burton-On-Trent
SEQUENCE:0
SUMMARY:National Damage Prevention Day 2026
UID:9f664069-6ead-4d13-b5d6-bba6659ae086
END:VEVENT
END:VCALENDAR
