BEGIN:VCALENDAR
PRODID:-//github.com/rianjs/ical.net//NONSGML ical.net 4.0//EN
VERSION:2.0
BEGIN:VEVENT
DTEND:20260616T091439
DTSTAMP:20260421T081831Z
DTSTART:20260616T091439
LOCATION:Antrim\, Dunadry Hotel and Gardens
SEQUENCE:0
SUMMARY:Sustainable and Resilient Highways
UID:6b2662ed-134d-4df7-bb31-63de7caf1504
X-ALT-DESC;FMTTYPE=text/html:\n          Antrim\, Dunadry Hotel and Garden
 s\n
END:VEVENT
END:VCALENDAR
