BEGIN:VCALENDAR
PRODID:-//github.com/rianjs/ical.net//NONSGML ical.net 4.0//EN
VERSION:2.0
BEGIN:VEVENT
DTEND:20260624T091439
DTSTAMP:20260421T082158Z
DTSTART:20260624T091439
LOCATION:Kenilworth\, UK
SEQUENCE:0
SUMMARY:Innovation and Learning Festival 2026
UID:5d87eed7-2ed4-434c-a6d2-608691e83bf5
X-ALT-DESC;FMTTYPE=text/html:\n          Kenilworth\n
END:VEVENT
END:VCALENDAR
