BEGIN:VCALENDAR
PRODID:-//github.com/rianjs/ical.net//NONSGML ical.net 4.0//EN
VERSION:2.0
BEGIN:VEVENT
DTEND:20260709T091439
DTSTAMP:20260421T082115Z
DTSTART:20260709T091439
LOCATION:Birmingham\, Macdonald Burlington Hotel
SEQUENCE:0
SUMMARY:Sustainable and Resilient Highways
UID:1dc31cb9-b470-4ba3-b4fc-6e234f348248
X-ALT-DESC;FMTTYPE=text/html:\n          Birmingham\, Macdonald Burlington
  Hotel\n
END:VEVENT
END:VCALENDAR
