BEGIN:VCALENDAR
PRODID:-//github.com/rianjs/ical.net//NONSGML ical.net 4.0//EN
VERSION:2.0
BEGIN:VEVENT
DTEND:20260903T091439
DTSTAMP:20260421T081646Z
DTSTART:20260903T091439
LOCATION:House of Commons Terrace Pavilion
SEQUENCE:0
SUMMARY:Street Works - UK Awards 2026
UID:9b89f626-61e5-4de5-b889-ffa4c5ba9d1f
END:VEVENT
END:VCALENDAR
