BEGIN:VCALENDAR
PRODID:-//github.com/rianjs/ical.net//NONSGML ical.net 4.0//EN
VERSION:2.0
BEGIN:VEVENT
DTEND:20261104T180000
DTSTAMP:20260421T081619Z
DTSTART:20261104T123000
LOCATION:InterContinental\, Park Lane\, London.
SEQUENCE:0
SUMMARY:Highway Magazine
UID:4456d9ec-fa49-4728-85fc-ee5435650b09
END:VEVENT
END:VCALENDAR
