BEGIN:VCALENDAR
PRODID:-//github.com/rianjs/ical.net//NONSGML ical.net 4.0//EN
VERSION:2.0
BEGIN:VEVENT
DTEND:20261203T091439
DTSTAMP:20260421T082330Z
DTSTART:20261203T091439
LOCATION:Hilton Birmingham Metropole
SEQUENCE:0
SUMMARY:2026 Street Works UK Conference
UID:2dff677b-68de-49d1-8d16-b2d145c153fc
END:VEVENT
END:VCALENDAR
